View In:
ArcGIS JavaScript
ArcGIS Online Map Viewer
ArcGIS Earth
Service Description: external/KARLSTAD_Slope_Sweref99_1330
Name: external/KARLSTAD_Slope_Sweref99_1330
Description:
Single Fused Map Cache: false
Extent:
XMin: 134958.1101261826
YMin: 6569121.436982829
XMax: 160466.91976333747
YMax: 6596905.124742722
Spatial Reference: 3008
(3008)
Initial Extent:
XMin: 134958.1101261826
YMin: 6569121.436982829
XMax: 160466.91976333747
YMax: 6596905.124742722
Spatial Reference: 3008
(3008)
Full Extent:
XMin: 134958.1101261826
YMin: 6569121.436982829
XMax: 160466.91976333747
YMax: 6596905.124742722
Spatial Reference: 3008
(3008)
Pixel Size X: 1.0225611174999945
Pixel Size Y: 1.0225493268519015
Band Count: 3
Pixel Type: U8
RasterFunction Infos: {"rasterFunctionInfos": [{
"name": "None",
"description": "",
"help": ""
}]}
Mensuration Capabilities: Basic
Inspection Capabilities:
Has Histograms: true
Has Colormap: false
Has Multi Dimensions : false
Rendering Rule:
Min Scale: 0
Max Scale: 0
Copyright Text:
Service Data Type: esriImageServiceDataTypeRGB
Min Values: 1, 1, 1
Max Values: 255, 255, 255
Mean Values: 231.27377284396567, 231.27377284396567, 231.27377284396567
Standard Deviation Values: 27.459451938608986, 27.459451938608986, 27.459451938608986
Object ID Field:
Fields:
None
Default Mosaic Method: Center
Allowed Mosaic Methods:
SortField:
SortValue: null
Mosaic Operator: First
Default Compression Quality: 75
Default Resampling Method: Bilinear
Max Record Count: null
Max Image Height: 4100
Max Image Width: 15000
Max Download Image Count: null
Max Mosaic Image Count: null
Allow Raster Function: true
Allow Copy: true
Allow Analysis: true
Allow Compute TiePoints: false
Supports Statistics: false
Supports Advanced Queries: false
Use StandardizedQueries: true
Raster Type Infos:
Name: Raster Dataset
Description: Supports all ArcGIS Raster Datasets
Help:
Has Raster Attribute Table: false
Edit Fields Info: null
Ownership Based AccessControl For Rasters: null
Child Resources:
Info
Histograms
Statistics
Key Properties
Legend
Raster Function Infos
Supported Operations:
Export Image
Identify
Measure
Compute Histograms
Compute Statistics Histograms
Get Samples
Compute Class Statistics
Query Boundary
Compute Pixel Location
Compute Angles
Validate
Project