{
 "currentVersion": 11.3,
 "serviceDescription": "external/KARLSTAD_Slope_Sweref99_1330",
 "name": "external/KARLSTAD_Slope_Sweref99_1330",
 "description": "",
 "extent": {
  "xmin": 134958.1101261826,
  "ymin": 6569121.436982829,
  "xmax": 160466.91976333747,
  "ymax": 6596905.124742722,
  "spatialReference": {
   "wkid": 3008,
   "latestWkid": 3008
  }
 },
 "initialExtent": {
  "xmin": 134958.1101261826,
  "ymin": 6569121.436982829,
  "xmax": 160466.91976333747,
  "ymax": 6596905.124742722,
  "spatialReference": {
   "wkid": 3008,
   "latestWkid": 3008
  }
 },
 "fullExtent": {
  "xmin": 134958.1101261826,
  "ymin": 6569121.436982829,
  "xmax": 160466.91976333747,
  "ymax": 6596905.124742722,
  "spatialReference": {
   "wkid": 3008,
   "latestWkid": 3008
  }
 },
 "sortableFields": "",
 "bandCount": 3,
 "pixelType": "U8",
 "minValues": [
  1,
  1,
  1
 ],
 "maxValues": [
  255,
  255,
  255
 ],
 "meanValues": [
  231.27377284396567,
  231.27377284396567,
  231.27377284396567
 ],
 "stdvValues": [
  27.459451938608986,
  27.459451938608986,
  27.459451938608986
 ],
 "hasMultidimensions": false,
 "pixelSizeX": 1.0225611174999945,
 "pixelSizeY": 1.0225493268519015,
 "meanPixelSize": 1.022555222175948,
 "datasetFormat": "FGDBR",
 "uncompressedSize": 2033423298,
 "blockWidth": 128,
 "blockHeight": 128,
 "compressionType": "LZ77",
 "bandNames": [
  "Band_1",
  "Band_2",
  "Band_3"
 ],
 "allowCopy": true,
 "allowAnalysis": true,
 "itemAccess": false,
 "inspectionCapabilities": "",
 "minPixelSize": 0,
 "maxPixelSize": 0,
 "copyrightText": "",
 "serviceDataType": "esriImageServiceDataTypeRGB",
 "serviceSourceType": "esriImageServiceSourceTypeDataset",
 "objectIdField": "",
 "fields": [],
 "capabilities": "Image,Metadata,Mensuration",
 "defaultMosaicMethod": "Center",
 "allowedMosaicMethods": "",
 "sortField": "",
 "sortValue": null,
 "sortAscending": true,
 "mosaicOperator": "First",
 "defaultCompressionQuality": 75,
 "defaultResamplingMethod": "Bilinear",
 "maxImageHeight": 4100,
 "maxImageWidth": 15000,
 "allowRasterFunction": true,
 "rasterFunctionInfos": [
  {
   "name": "None",
   "description": "",
   "help": ""
  }
 ],
 "rasterTypeInfos": [
  {
   "name": "Raster Dataset",
   "description": "Supports all ArcGIS Raster Datasets",
   "help": ""
  }
 ],
 "mensurationCapabilities": "Basic",
 "hasHistograms": true,
 "hasColormap": false,
 "hasRasterAttributeTable": false,
 "minScale": 0,
 "maxScale": 0,
 "exportTilesAllowed": false,
 "supportsStatistics": false,
 "supportsAdvancedQueries": false,
 "editFieldsInfo": null,
 "ownershipBasedAccessControlForRasters": null,
 "allowComputeTiePoints": false,
 "useStandardizedQueries": true,
 "advancedQueryCapabilities": {
  "useStandardizedQueries": true,
  "supportsStatistics": false,
  "supportsOrderBy": false,
  "supportsDistinct": false,
  "supportsPagination": false
 },
 "spatialReference": {
  "wkid": 3008,
  "latestWkid": 3008
 }
}
