View In:
ArcGIS JavaScript
ArcGIS Online Map Viewer
ArcGIS Earth
Service Description: external/KARLSTAD_Hillshade_Sweref99_1330
Name: external/KARLSTAD_Hillshade_Sweref99_1330
Description:
Single Fused Map Cache: false
Extent:
XMin: 134958.891340689
YMin: 6569178.37652396
XMax: 160466.8122017505
YMax: 6596905.26664812
Spatial Reference: 3008
(3008)
Initial Extent:
XMin: 134958.891340689
YMin: 6569178.37652396
XMax: 160466.8122017505
YMax: 6596905.26664812
Spatial Reference: 3008
(3008)
Full Extent:
XMin: 134958.891340689
YMin: 6569178.37652396
XMax: 160466.8122017505
YMax: 6596905.26664812
Spatial Reference: 3008
(3008)
Pixel Size X: 1.0225664806999994
Pixel Size Y: 1.022566480699239
Band Count: 1
Pixel Type: U8
RasterFunction Infos: {"rasterFunctionInfos": [{
"name": "None",
"description": "",
"help": ""
}]}
Mensuration Capabilities: Basic
Inspection Capabilities:
Has Histograms: true
Has Colormap: false
Has Multi Dimensions : false
Rendering Rule:
Min Scale: 0
Max Scale: 0
Copyright Text:
Service Data Type: esriImageServiceDataTypeGeneric
Min Values: 1
Max Values: 255
Mean Values: 178.1351657012058
Standard Deviation Values: 22.524182555796617
Object ID Field:
Fields:
None
Default Mosaic Method: Center
Allowed Mosaic Methods:
SortField:
SortValue: null
Mosaic Operator: First
Default Compression Quality: 75
Default Resampling Method: Bilinear
Max Record Count: null
Max Image Height: 4100
Max Image Width: 15000
Max Download Image Count: null
Max Mosaic Image Count: null
Allow Raster Function: true
Allow Copy: true
Allow Analysis: true
Allow Compute TiePoints: false
Supports Statistics: false
Supports Advanced Queries: false
Use StandardizedQueries: true
Raster Type Infos:
Name: Raster Dataset
Description: Supports all ArcGIS Raster Datasets
Help:
Has Raster Attribute Table: false
Edit Fields Info: null
Ownership Based AccessControl For Rasters: null
Child Resources:
Info
Histograms
Statistics
Key Properties
Legend
Raster Function Infos
Supported Operations:
Export Image
Identify
Measure
Compute Histograms
Compute Statistics Histograms
Get Samples
Compute Class Statistics
Query Boundary
Compute Pixel Location
Compute Angles
Validate
Project