{
 "currentVersion": 11.3,
 "serviceDescription": "external/KARLSTAD_Hillshade_Sweref99_1330",
 "name": "external/KARLSTAD_Hillshade_Sweref99_1330",
 "description": "",
 "extent": {
  "xmin": 134958.891340689,
  "ymin": 6569178.37652396,
  "xmax": 160466.8122017505,
  "ymax": 6596905.26664812,
  "spatialReference": {
   "wkid": 3008,
   "latestWkid": 3008
  }
 },
 "initialExtent": {
  "xmin": 134958.891340689,
  "ymin": 6569178.37652396,
  "xmax": 160466.8122017505,
  "ymax": 6596905.26664812,
  "spatialReference": {
   "wkid": 3008,
   "latestWkid": 3008
  }
 },
 "fullExtent": {
  "xmin": 134958.891340689,
  "ymin": 6569178.37652396,
  "xmax": 160466.8122017505,
  "ymax": 6596905.26664812,
  "spatialReference": {
   "wkid": 3008,
   "latestWkid": 3008
  }
 },
 "sortableFields": "",
 "bandCount": 1,
 "pixelType": "U8",
 "minValues": [
  1
 ],
 "maxValues": [
  255
 ],
 "meanValues": [
  178.1351657012058
 ],
 "stdvValues": [
  22.524182555796617
 ],
 "hasMultidimensions": false,
 "pixelSizeX": 1.0225664806999994,
 "pixelSizeY": 1.022566480699239,
 "meanPixelSize": 1.022566480699619,
 "datasetFormat": "FGDBR",
 "uncompressedSize": 676383675,
 "blockWidth": 128,
 "blockHeight": 128,
 "compressionType": "LZ77",
 "bandNames": [
  "Band_1"
 ],
 "allowCopy": true,
 "allowAnalysis": true,
 "itemAccess": false,
 "inspectionCapabilities": "",
 "minPixelSize": 0,
 "maxPixelSize": 0,
 "copyrightText": "",
 "serviceDataType": "esriImageServiceDataTypeGeneric",
 "serviceSourceType": "esriImageServiceSourceTypeDataset",
 "objectIdField": "",
 "fields": [],
 "capabilities": "Image,Metadata,Mensuration",
 "defaultMosaicMethod": "Center",
 "allowedMosaicMethods": "",
 "sortField": "",
 "sortValue": null,
 "sortAscending": true,
 "mosaicOperator": "First",
 "defaultCompressionQuality": 75,
 "defaultResamplingMethod": "Bilinear",
 "maxImageHeight": 4100,
 "maxImageWidth": 15000,
 "allowRasterFunction": true,
 "rasterFunctionInfos": [
  {
   "name": "None",
   "description": "",
   "help": ""
  }
 ],
 "rasterTypeInfos": [
  {
   "name": "Raster Dataset",
   "description": "Supports all ArcGIS Raster Datasets",
   "help": ""
  }
 ],
 "mensurationCapabilities": "Basic",
 "hasHistograms": true,
 "hasColormap": false,
 "hasRasterAttributeTable": false,
 "minScale": 0,
 "maxScale": 0,
 "exportTilesAllowed": false,
 "supportsStatistics": false,
 "supportsAdvancedQueries": false,
 "editFieldsInfo": null,
 "ownershipBasedAccessControlForRasters": null,
 "allowComputeTiePoints": false,
 "useStandardizedQueries": true,
 "advancedQueryCapabilities": {
  "useStandardizedQueries": true,
  "supportsStatistics": false,
  "supportsOrderBy": false,
  "supportsDistinct": false,
  "supportsPagination": false
 },
 "spatialReference": {
  "wkid": 3008,
  "latestWkid": 3008
 }
}
