View In:
ArcGIS JavaScript
ArcGIS Online Map Viewer
ArcGIS Earth
Service Description: external/KARLSTAD_Ortofoto_2003_Cache
Name: external/KARLSTAD_Ortofoto_2003_Cache
Description:
Single Fused Map Cache: true
Tile Info:
- Height: 512
- Width: 512
- DPI: 96
-
Levels of Detail: 13
- Format: JPEG
- Compression Quality: 75.0
- LERC Error: NaN
- Origin: X: -5120900.0
Y: 9998100.0
- Spatial Reference: 3008
(3008)
Storage Info:
- Storage Format: esriMapCacheStorageModeCompactV2
- Packet Size: 128
Extent:
XMin: 137142.67901666078
YMin: 6579621.746898816
XMax: 163148.48761582962
YMax: 6595631.095538761
Spatial Reference: 3008
(3008)
Initial Extent:
XMin: 137142.67901666078
YMin: 6579621.746898816
XMax: 163148.48761582962
YMax: 6595631.095538761
Spatial Reference: 3008
(3008)
Full Extent:
XMin: 137142.67901666078
YMin: 6579621.746898816
XMax: 163148.48761582962
YMax: 6595631.095538761
Spatial Reference: 3008
(3008)
Pixel Size X: 0.20016940246745157
Pixel Size Y: 0.20016940246745482
Band Count: 3
Pixel Type: U8
RasterFunction Infos: {"rasterFunctionInfos": [{
"name": "None",
"description": "",
"help": ""
}]}
Mensuration Capabilities: Basic
Inspection Capabilities:
Has Histograms: true
Has Colormap: false
Has Multi Dimensions : false
Rendering Rule:
Min Scale: 2500000
Max Scale: 1000
Resampling: false
Copyright Text:
Service Data Type: esriImageServiceDataTypeRGB
Min Values: 0, 0, 0
Max Values: 254, 254, 254
Mean Values: 72.560320973848, 109.29077756554, 101.74302513842
Standard Deviation Values: 56.803723075025, 46.289699246677, 35.486330993061
Object ID Field:
Fields:
None
Default Mosaic Method: Center
Allowed Mosaic Methods:
SortField:
SortValue: null
Mosaic Operator: First
Default Compression Quality: 75
Default Resampling Method: Bilinear
Max Record Count: null
Max Image Height: 4100
Max Image Width: 15000
Max Download Image Count: null
Max Mosaic Image Count: null
Allow Raster Function: true
Allow Copy: true
Allow Analysis: true
Allow Compute TiePoints: false
Supports Statistics: false
Supports Advanced Queries: false
Use StandardizedQueries: true
Raster Type Infos:
Name: Raster Dataset
Description: Supports all ArcGIS Raster Datasets
Help:
Has Raster Attribute Table: false
Edit Fields Info: null
Ownership Based AccessControl For Rasters: null
Child Resources:
Info
Histograms
Statistics
Key Properties
Legend
Raster Function Infos
Supported Operations:
Export Image
Identify
Measure
Compute Histograms
Compute Statistics Histograms
Get Samples
Compute Class Statistics
Query Boundary
Compute Pixel Location
Compute Angles
Validate
Project